BEGIN:VCALENDAR
VERSION:2.0
PRODID:-//Kågedalens Ryttarförening - ECPv6.15.18//NONSGML v1.0//EN
CALSCALE:GREGORIAN
METHOD:PUBLISH
X-WR-CALNAME:Kågedalens Ryttarförening
X-ORIGINAL-URL:https://kdrf.se
X-WR-CALDESC:Händelser för Kågedalens Ryttarförening
REFRESH-INTERVAL;VALUE=DURATION:PT1H
X-Robots-Tag:noindex
X-PUBLISHED-TTL:PT1H
BEGIN:VTIMEZONE
TZID:Europe/Stockholm
BEGIN:DAYLIGHT
TZOFFSETFROM:+0100
TZOFFSETTO:+0200
TZNAME:CEST
DTSTART:20250330T010000
END:DAYLIGHT
BEGIN:STANDARD
TZOFFSETFROM:+0200
TZOFFSETTO:+0100
TZNAME:CET
DTSTART:20251026T010000
END:STANDARD
BEGIN:DAYLIGHT
TZOFFSETFROM:+0100
TZOFFSETTO:+0200
TZNAME:CEST
DTSTART:20260329T010000
END:DAYLIGHT
BEGIN:STANDARD
TZOFFSETFROM:+0200
TZOFFSETTO:+0100
TZNAME:CET
DTSTART:20261025T010000
END:STANDARD
BEGIN:DAYLIGHT
TZOFFSETFROM:+0100
TZOFFSETTO:+0200
TZNAME:CEST
DTSTART:20270328T010000
END:DAYLIGHT
BEGIN:STANDARD
TZOFFSETFROM:+0200
TZOFFSETTO:+0100
TZNAME:CET
DTSTART:20271031T010000
END:STANDARD
END:VTIMEZONE
BEGIN:VEVENT
DTSTART;TZID=Europe/Stockholm:20260423T090000
DTEND;TZID=Europe/Stockholm:20260423T110000
DTSTAMP:20260425T150855
CREATED:20260420T101605Z
LAST-MODIFIED:20260420T101605Z
UID:9806-1776934800-1776942000@kdrf.se
SUMMARY:Lektion
DESCRIPTION:
URL:https://kdrf.se/event/lektion-3/
CATEGORIES:Manegen
END:VEVENT
BEGIN:VEVENT
DTSTART;TZID=Europe/Stockholm:20260423T120000
DTEND;TZID=Europe/Stockholm:20260423T130000
DTSTAMP:20260425T150855
CREATED:20260420T101641Z
LAST-MODIFIED:20260420T101641Z
UID:9808-1776945600-1776949200@kdrf.se
SUMMARY:Insläpp
DESCRIPTION:
URL:https://kdrf.se/event/inslapp-3/
CATEGORIES:Manegen
END:VEVENT
BEGIN:VEVENT
DTSTART;TZID=Europe/Stockholm:20260423T160000
DTEND;TZID=Europe/Stockholm:20260423T210000
DTSTAMP:20260425T150855
CREATED:20260420T101709Z
LAST-MODIFIED:20260420T101709Z
UID:9810-1776960000-1776978000@kdrf.se
SUMMARY:Lektioner
DESCRIPTION:
URL:https://kdrf.se/event/lektioner-6/
CATEGORIES:Manegen,Ridhus
END:VEVENT
END:VCALENDAR