BEGIN:VCALENDAR
VERSION:2.0
PRODID:-//Kågedalens Ryttarförening - ECPv6.15.18//NONSGML v1.0//EN
CALSCALE:GREGORIAN
METHOD:PUBLISH
X-ORIGINAL-URL:https://kdrf.se
X-WR-CALDESC:Händelser för Kågedalens Ryttarförening
REFRESH-INTERVAL;VALUE=DURATION:PT1H
X-Robots-Tag:noindex
X-PUBLISHED-TTL:PT1H
BEGIN:VTIMEZONE
TZID:Europe/Stockholm
BEGIN:DAYLIGHT
TZOFFSETFROM:+0100
TZOFFSETTO:+0200
TZNAME:CEST
DTSTART:20250330T010000
END:DAYLIGHT
BEGIN:STANDARD
TZOFFSETFROM:+0200
TZOFFSETTO:+0100
TZNAME:CET
DTSTART:20251026T010000
END:STANDARD
BEGIN:DAYLIGHT
TZOFFSETFROM:+0100
TZOFFSETTO:+0200
TZNAME:CEST
DTSTART:20260329T010000
END:DAYLIGHT
BEGIN:STANDARD
TZOFFSETFROM:+0200
TZOFFSETTO:+0100
TZNAME:CET
DTSTART:20261025T010000
END:STANDARD
BEGIN:DAYLIGHT
TZOFFSETFROM:+0100
TZOFFSETTO:+0200
TZNAME:CEST
DTSTART:20270328T010000
END:DAYLIGHT
BEGIN:STANDARD
TZOFFSETFROM:+0200
TZOFFSETTO:+0100
TZNAME:CET
DTSTART:20271031T010000
END:STANDARD
END:VTIMEZONE
BEGIN:VEVENT
DTSTART;TZID=Europe/Stockholm:20260402T090000
DTEND;TZID=Europe/Stockholm:20260402T110000
DTSTAMP:20260425T150219
CREATED:20260331T085716Z
LAST-MODIFIED:20260331T085716Z
UID:9692-1775120400-1775127600@kdrf.se
SUMMARY:Manegevård
DESCRIPTION:
URL:https://kdrf.se/event/manegevard-2/
CATEGORIES:Manegen
END:VEVENT
BEGIN:VEVENT
DTSTART;TZID=Europe/Stockholm:20260402T120000
DTEND;TZID=Europe/Stockholm:20260402T130000
DTSTAMP:20260425T150219
CREATED:20260331T085745Z
LAST-MODIFIED:20260331T085745Z
UID:9694-1775131200-1775134800@kdrf.se
SUMMARY:Intag
DESCRIPTION:
URL:https://kdrf.se/event/intag-18/
CATEGORIES:Manegen
END:VEVENT
BEGIN:VEVENT
DTSTART;TZID=Europe/Stockholm:20260402T160000
DTEND;TZID=Europe/Stockholm:20260402T210000
DTSTAMP:20260425T150219
CREATED:20260331T085839Z
LAST-MODIFIED:20260331T085839Z
UID:9696-1775145600-1775163600@kdrf.se
SUMMARY:Lektioner
DESCRIPTION:
URL:https://kdrf.se/event/lektioner-24/
CATEGORIES:Manegen
END:VEVENT
END:VCALENDAR