BEGIN:VCALENDAR
VERSION:2.0
PRODID:-//Kågedalens Ryttarförening - ECPv6.15.18//NONSGML v1.0//EN
CALSCALE:GREGORIAN
METHOD:PUBLISH
X-WR-CALNAME:Kågedalens Ryttarförening
X-ORIGINAL-URL:https://kdrf.se
X-WR-CALDESC:Händelser för Kågedalens Ryttarförening
REFRESH-INTERVAL;VALUE=DURATION:PT1H
X-Robots-Tag:noindex
X-PUBLISHED-TTL:PT1H
BEGIN:VTIMEZONE
TZID:Europe/Stockholm
BEGIN:DAYLIGHT
TZOFFSETFROM:+0100
TZOFFSETTO:+0200
TZNAME:CEST
DTSTART:20250330T010000
END:DAYLIGHT
BEGIN:STANDARD
TZOFFSETFROM:+0200
TZOFFSETTO:+0100
TZNAME:CET
DTSTART:20251026T010000
END:STANDARD
BEGIN:DAYLIGHT
TZOFFSETFROM:+0100
TZOFFSETTO:+0200
TZNAME:CEST
DTSTART:20260329T010000
END:DAYLIGHT
BEGIN:STANDARD
TZOFFSETFROM:+0200
TZOFFSETTO:+0100
TZNAME:CET
DTSTART:20261025T010000
END:STANDARD
BEGIN:DAYLIGHT
TZOFFSETFROM:+0100
TZOFFSETTO:+0200
TZNAME:CEST
DTSTART:20270328T010000
END:DAYLIGHT
BEGIN:STANDARD
TZOFFSETFROM:+0200
TZOFFSETTO:+0100
TZNAME:CET
DTSTART:20271031T010000
END:STANDARD
END:VTIMEZONE
BEGIN:VEVENT
DTSTART;TZID=Europe/Stockholm:20260401T090000
DTEND;TZID=Europe/Stockholm:20260401T110000
DTSTAMP:20260425T150818
CREATED:20260331T085533Z
LAST-MODIFIED:20260331T085533Z
UID:9686-1775034000-1775041200@kdrf.se
SUMMARY:Manegevård
DESCRIPTION:
URL:https://kdrf.se/event/manegevard/
CATEGORIES:Manegen
END:VEVENT
BEGIN:VEVENT
DTSTART;TZID=Europe/Stockholm:20260401T120000
DTEND;TZID=Europe/Stockholm:20260401T130000
DTSTAMP:20260425T150818
CREATED:20260331T085614Z
LAST-MODIFIED:20260331T085614Z
UID:9688-1775044800-1775048400@kdrf.se
SUMMARY:Intag
DESCRIPTION:
URL:https://kdrf.se/event/intag-17/
CATEGORIES:Manegen
END:VEVENT
BEGIN:VEVENT
DTSTART;TZID=Europe/Stockholm:20260401T153000
DTEND;TZID=Europe/Stockholm:20260401T210000
DTSTAMP:20260425T150818
CREATED:20260331T085644Z
LAST-MODIFIED:20260331T085644Z
UID:9690-1775057400-1775077200@kdrf.se
SUMMARY:Lektioner
DESCRIPTION:
URL:https://kdrf.se/event/lektioner-23/
CATEGORIES:Manegen
END:VEVENT
END:VCALENDAR