BEGIN:VCALENDAR
VERSION:2.0
PRODID:-//Kågedalens Ryttarförening - ECPv6.15.18//NONSGML v1.0//EN
CALSCALE:GREGORIAN
METHOD:PUBLISH
X-WR-CALNAME:Kågedalens Ryttarförening
X-ORIGINAL-URL:https://kdrf.se
X-WR-CALDESC:Händelser för Kågedalens Ryttarförening
REFRESH-INTERVAL;VALUE=DURATION:PT1H
X-Robots-Tag:noindex
X-PUBLISHED-TTL:PT1H
BEGIN:VTIMEZONE
TZID:Europe/Stockholm
BEGIN:DAYLIGHT
TZOFFSETFROM:+0100
TZOFFSETTO:+0200
TZNAME:CEST
DTSTART:20250330T010000
END:DAYLIGHT
BEGIN:STANDARD
TZOFFSETFROM:+0200
TZOFFSETTO:+0100
TZNAME:CET
DTSTART:20251026T010000
END:STANDARD
BEGIN:DAYLIGHT
TZOFFSETFROM:+0100
TZOFFSETTO:+0200
TZNAME:CEST
DTSTART:20260329T010000
END:DAYLIGHT
BEGIN:STANDARD
TZOFFSETFROM:+0200
TZOFFSETTO:+0100
TZNAME:CET
DTSTART:20261025T010000
END:STANDARD
BEGIN:DAYLIGHT
TZOFFSETFROM:+0100
TZOFFSETTO:+0200
TZNAME:CEST
DTSTART:20270328T010000
END:DAYLIGHT
BEGIN:STANDARD
TZOFFSETFROM:+0200
TZOFFSETTO:+0100
TZNAME:CET
DTSTART:20271031T010000
END:STANDARD
END:VTIMEZONE
BEGIN:VEVENT
DTSTART;TZID=Europe/Stockholm:20260329T140000
DTEND;TZID=Europe/Stockholm:20260329T150000
DTSTAMP:20260425T163012
CREATED:20260325T151326Z
LAST-MODIFIED:20260325T151326Z
UID:9660-1774792800-1774796400@kdrf.se
SUMMARY:Intag
DESCRIPTION:
URL:https://kdrf.se/event/intag-15/
CATEGORIES:Manegen
END:VEVENT
BEGIN:VEVENT
DTSTART;TZID=Europe/Stockholm:20260329T160000
DTEND;TZID=Europe/Stockholm:20260329T210000
DTSTAMP:20260425T163012
CREATED:20260325T151357Z
LAST-MODIFIED:20260325T151357Z
UID:9662-1774800000-1774818000@kdrf.se
SUMMARY:Lektioner
DESCRIPTION:
URL:https://kdrf.se/event/lektioner-16/
CATEGORIES:Manegen
END:VEVENT
END:VCALENDAR