BEGIN:VCALENDAR
VERSION:2.0
PRODID:-//Kågedalens Ryttarförening - ECPv6.15.18//NONSGML v1.0//EN
CALSCALE:GREGORIAN
METHOD:PUBLISH
X-WR-CALNAME:Kågedalens Ryttarförening
X-ORIGINAL-URL:https://kdrf.se
X-WR-CALDESC:Händelser för Kågedalens Ryttarförening
REFRESH-INTERVAL;VALUE=DURATION:PT1H
X-Robots-Tag:noindex
X-PUBLISHED-TTL:PT1H
BEGIN:VTIMEZONE
TZID:Europe/Stockholm
BEGIN:DAYLIGHT
TZOFFSETFROM:+0100
TZOFFSETTO:+0200
TZNAME:CEST
DTSTART:20250330T010000
END:DAYLIGHT
BEGIN:STANDARD
TZOFFSETFROM:+0200
TZOFFSETTO:+0100
TZNAME:CET
DTSTART:20251026T010000
END:STANDARD
BEGIN:DAYLIGHT
TZOFFSETFROM:+0100
TZOFFSETTO:+0200
TZNAME:CEST
DTSTART:20260329T010000
END:DAYLIGHT
BEGIN:STANDARD
TZOFFSETFROM:+0200
TZOFFSETTO:+0100
TZNAME:CET
DTSTART:20261025T010000
END:STANDARD
BEGIN:DAYLIGHT
TZOFFSETFROM:+0100
TZOFFSETTO:+0200
TZNAME:CEST
DTSTART:20270328T010000
END:DAYLIGHT
BEGIN:STANDARD
TZOFFSETFROM:+0200
TZOFFSETTO:+0100
TZNAME:CET
DTSTART:20271031T010000
END:STANDARD
END:VTIMEZONE
BEGIN:VEVENT
DTSTART;TZID=Europe/Stockholm:20260326T090000
DTEND;TZID=Europe/Stockholm:20260326T110000
DTSTAMP:20260425T163138
CREATED:20260325T151029Z
LAST-MODIFIED:20260325T151029Z
UID:9648-1774515600-1774522800@kdrf.se
SUMMARY:Manegevård
DESCRIPTION:
URL:https://kdrf.se/event/manegevard-8/
CATEGORIES:Manegen
END:VEVENT
BEGIN:VEVENT
DTSTART;TZID=Europe/Stockholm:20260326T120000
DTEND;TZID=Europe/Stockholm:20260326T130000
DTSTAMP:20260425T163138
CREATED:20260325T151055Z
LAST-MODIFIED:20260325T151055Z
UID:9650-1774526400-1774530000@kdrf.se
SUMMARY:Intag
DESCRIPTION:
URL:https://kdrf.se/event/intag-13/
CATEGORIES:Manegen
END:VEVENT
BEGIN:VEVENT
DTSTART;TZID=Europe/Stockholm:20260326T160000
DTEND;TZID=Europe/Stockholm:20260326T210000
DTSTAMP:20260425T163138
CREATED:20260325T151126Z
LAST-MODIFIED:20260325T151126Z
UID:9652-1774540800-1774558800@kdrf.se
SUMMARY:Lektioner
DESCRIPTION:
URL:https://kdrf.se/event/lektioner-3/
CATEGORIES:Manegen
END:VEVENT
END:VCALENDAR